BEGIN:VCALENDAR
VERSION:2.0
PRODID:-//Floor Your Future - ECPv6.15.20//NONSGML v1.0//EN
CALSCALE:GREGORIAN
METHOD:PUBLISH
X-ORIGINAL-URL:https://flooryourfuture.com
X-WR-CALDESC:Events for Floor Your Future
REFRESH-INTERVAL;VALUE=DURATION:PT1H
X-Robots-Tag:noindex
X-PUBLISHED-TTL:PT1H
BEGIN:VTIMEZONE
TZID:UTC
BEGIN:STANDARD
TZOFFSETFROM:+0000
TZOFFSETTO:+0000
TZNAME:UTC
DTSTART:20250101T000000
END:STANDARD
END:VTIMEZONE
BEGIN:VEVENT
DTSTART;VALUE=DATE:20260713
DTEND;VALUE=DATE:20260718
DTSTAMP:20260421T034751
CREATED:20260218T160337Z
LAST-MODIFIED:20260218T160337Z
UID:4240-1783900800-1784332799@flooryourfuture.com
SUMMARY:CTEF- FULL FOUNDATIONS 100-LEVEL COURSE: 101-INTRO\, 102-FINISHING\, 103-ADV FINISHING- Nashville\, TN
DESCRIPTION:The 100 Level Foundations Series is a one-week program for Apprentices and Finishers. It covers in-depth the components of year one for a ceramic tile tradesperson and includes the following three components. Dividing the content into focused studies will allow the student to focus on the exact information he or she may need in a shorter amount of time or take all of them and receive a discount for the week. \nIntro to Ceramic Tile (One day\, 8 hours) focuses on understanding the History and Overview of the Trade along with how to set up a job site. $319 \nCeramic Tile Finishing (Two days\, 16 hours) explores with hands-on practice Grouting\, Cleaning\, and Membranes. $519 \nAdvanced Finishing (Two days\, 16 hours) prepares an apprentice for Troweling\, Measuring\, Cutting\, and Repairing so they return home with an understanding and practice of these essential skills. $519
URL:https://flooryourfuture.com/event/ctef-full-foundations-100-level-course-101-intro-102-finishing-103-adv-finishing-nashville-tn/
LOCATION:Ceramic Tile Education Foundation\, Nashville\, TN\, 29670\, United States
CATEGORIES:CTEF
ATTACH;FMTTYPE=image/jpeg:https://flooryourfuture.com/wp-content/uploads/2024/10/CTEF-100-class-picture.jpg
END:VEVENT
END:VCALENDAR