BEGIN:VCALENDAR
VERSION:2.0
PRODID:-//Floor Your Future - ECPv6.15.20//NONSGML v1.0//EN
CALSCALE:GREGORIAN
METHOD:PUBLISH
X-WR-CALNAME:Floor Your Future
X-ORIGINAL-URL:https://flooryourfuture.com
X-WR-CALDESC:Events for Floor Your Future
REFRESH-INTERVAL;VALUE=DURATION:PT1H
X-Robots-Tag:noindex
X-PUBLISHED-TTL:PT1H
BEGIN:VTIMEZONE
TZID:UTC
BEGIN:STANDARD
TZOFFSETFROM:+0000
TZOFFSETTO:+0000
TZNAME:UTC
DTSTART:20250101T000000
END:STANDARD
END:VTIMEZONE
BEGIN:VEVENT
DTSTART;VALUE=DATE:20260413
DTEND;VALUE=DATE:20260425
DTSTAMP:20260420T185453
CREATED:20260219T182248Z
LAST-MODIFIED:20260219T182248Z
UID:4290-1776038400-1777075199@flooryourfuture.com
SUMMARY:AFT - Phase 1: Introduction to Floor Covering Installation\, Phase 2: Basic Installation\, Phase 3: Carpet & LVP
DESCRIPTION:This initial 2-week course is designed to fast track an individual from being a burden slowing down installer production to being a great assistant to any installation team. Students will learn to properly identify and properly use tools for Carpet\, wood and LVP installation. \nThey will perform hands-on installation techniques for carpet installation such as; \n\nProper placement and Installation of Tack strip\nProper lay-out and installation of Cushion\nHow to properly cut\, carry and layout material\nProper seam sealing techniques\nIntroduction on the use of the seaming iron and Koolglide Seam System\nHow to properly use a power stretcher\n\nThey will perform Hands-on basics on the installation of LVP and other plank type products such as: \n\nJob site Conditions\nFloor Flatness\nPrepping a floor\nBalancing the installation\nThe proper use of Trammel points\nDifferences of various locking systems and why knowing what system you’re working with is so important.\nProper cutting techniques and various tools available\nProper ripping techniques\, methods\, and tools\n\nOn Wood Flooring: \n\nBasics of the types of wood flooring\nFloating Installations\nGlue direct\nNail Down\nCutting techniques and tools\nIntroduction to NWFA\n\nShould you have any questions please do not hesitate to contact: \nRobert Varden – (415) 328-2134 \nAmy Carter – (469) 867-6299 \nJonathan Varden – (415) 488-3450
URL:https://flooryourfuture.com/event/aft-phase-1-introduction-to-floor-covering-installation-phase-2-basic-installation-phase-3-carpet-lvp-april/
LOCATION:Advanced Flooring Technology
CATEGORIES:ATF
ORGANIZER;CN="Amy Carter":MAILTO:amy@ifcta.org
END:VEVENT
END:VCALENDAR